BEGIN:VCALENDAR
VERSION:2.0
PRODID:-//Stadtgeschichte München//DE
CALSCALE:GREGORIAN
BEGIN:VEVENT
UID:27028@stadtgeschichte-muenchen.de
SUMMARY:Weihnachtliches München
DESCRIPTION:&lt;p&gt;Die Stadtführung mit Anneliese Döhring beginnt mit einer Einstimmung auf das Weihnachtsfest am Christkindlmarkt. Dann hören wir von der Gebnachtdult und vom berühmten Augustinerkindl und besichtigen Krippen, Fenster und Altäre, die von der Weihnachtsgeschichte erzählen.&lt;/p&gt;
DTSTART:20251207T110000
DTEND:20251207T123000
LOCATION:Marienplatz, am Fischbrunnen
ORGANIZER:MVHS
END:VEVENT
END:VCALENDAR