BEGIN:VCALENDAR
VERSION:2.0
PRODID:-//Stadtgeschichte München//DE
CALSCALE:GREGORIAN
BEGIN:VEVENT
UID:27032@stadtgeschichte-muenchen.de
SUMMARY:Feldmochinger Christkindlmarkt
DESCRIPTION:
DTSTART:20251213T110000
DTEND:20251213T180000
LOCATION:Mehrzweckhalle Feldmoching, Georg-Zech-Allee / Ecke Lerchenauer Straße
ORGANIZER:
END:VEVENT
END:VCALENDAR