BEGIN:VCALENDAR
VERSION:2.0
PRODID:-//Stadtgeschichte München//DE
CALSCALE:GREGORIAN
BEGIN:VEVENT
UID:27033@stadtgeschichte-muenchen.de
SUMMARY:Feldmochinger Christkindlmarkt
DESCRIPTION:&lt;p&gt;mit Gemütlichkeit, Musik und Essen&lt;/p&gt;&lt;p&gt;Prominententreffen. So, 14.12., 11.30 Uhr&lt;/p&gt;
DTSTART:20251214T113000
DTEND:20251214T173000
LOCATION:Mehrzweckhalle Feldmoching, Georg-Zech-Allee / Ecke Lerchenauer Straße
ORGANIZER:
END:VEVENT
END:VCALENDAR