BEGIN:VCALENDAR
VERSION:2.0
PRODID:-//Stadtgeschichte München//DE
CALSCALE:GREGORIAN
BEGIN:VEVENT
UID:27041@stadtgeschichte-muenchen.de
SUMMARY:König Ludwig I. und seine Gemäldegalerie für die Ewigkeit
DESCRIPTION:
DTSTART:20251218T180000
DTEND:20251218T190000
LOCATION:Bayerisches Nationalmuseum Prinzregentenstr. 3
ORGANIZER:Bayerisches Nationalmuseum
END:VEVENT
END:VCALENDAR