BEGIN:VCALENDAR
VERSION:2.0
PRODID:-//Stadtgeschichte München//DE
CALSCALE:GREGORIAN
BEGIN:VEVENT
UID:27044@stadtgeschichte-muenchen.de
SUMMARY:Theatralische Weihnachten
DESCRIPTION:
DTSTART:20251228T110000
DTEND:20251228T120000
LOCATION:Bayerisches Nationalmuseum Prinzregentenstr. 3
ORGANIZER:Bayerisches Nationalmuseum
END:VEVENT
END:VCALENDAR