BEGIN:VCALENDAR
VERSION:2.0
PRODID:-//Stadtgeschichte München//DE
CALSCALE:GREGORIAN
BEGIN:VEVENT
UID:27045@stadtgeschichte-muenchen.de
SUMMARY:Alle Jahre wieder…
DESCRIPTION:&lt;p&gt;Zur Einstimmung auf die (Vor-)Weihnachtszeit besuchst Du die weltberühmte Krippensammlung des Museums. Ob Stall, Palast oder Höhle, das Geschehen der Geburt Christi kann vielfältig inszeniert sein. Wo sind Engel und Hirten, Ochs und Esel, warum ist da plötzlich eine große Musikkapelle, und was haben Kokosnüsse mit Erdnüssen zu tun? Angeregt durch das Gesehene gestaltest Du Deine eigene kleine Krippe aus Papier oder Knete, die Du zuhause aufstellen kannst.&lt;/p&gt;
DTSTART:20251130T150000
DTEND:20251130T170000
LOCATION:Bayerisches Nationalmuseum Prinzregentenstr. 3
ORGANIZER:Bayerisches Nationalmuseum
END:VEVENT
END:VCALENDAR