BEGIN:VCALENDAR
VERSION:2.0
PRODID:-//Stadtgeschichte München//DE
CALSCALE:GREGORIAN
BEGIN:VEVENT
UID:27075@stadtgeschichte-muenchen.de
SUMMARY:Pressehaus Bayerstraße - Münchner Merkur und tz
DESCRIPTION:&lt;p&gt;Hier darf man den Tag nicht vor dem Andruck loben: Im Pressehaus Bayerstraße arbeiten erfahrene Journalistinnen und Journalisten daran, sechs Tage pro Woche die Printausgabe des &quot;Münchner Merkur&quot; und der &quot;tz&quot; inhaltlich und grafisch zu gestalten. Bei der Besichtigung der Redaktionsräume erfahren die Teilnehmer:innen, wie eine Zeitung entsteht, mit welcher Technik heutzutage gearbeitet wird, und warum ein gedrucktes Medium im digitalen Zeitalter ein besonders hohes Gut ist.&lt;/p&gt;
DTSTART:20260306T143000
DTEND:20260306T160000
LOCATION:Pressehaus-Eingang im Innenhof, Paul-Heyse-Straße 2-4
ORGANIZER:DGB-Bildungswerk Bayern e.V. Region München
END:VEVENT
END:VCALENDAR