BEGIN:VCALENDAR
VERSION:2.0
PRODID:-//Stadtgeschichte München//DE
CALSCALE:GREGORIAN
BEGIN:VEVENT
UID:27076@stadtgeschichte-muenchen.de
SUMMARY:Bau- und Brautradition: Das Münchner Brauereimuseum
DESCRIPTION:&lt;p&gt;Was ist vom mittelalterlichen München heute noch erhalten? Einiges davon, zum Beispiel die Stadtmauerreste beim Isartor oder die gotischen Häuser um den Alten Hof wollen wir auf unserem Rundgang besichtigen. Im wohl ältesten Bürgerhaus der Stadt, Sterneckerstraße 2, befindet sich eine für München besonders typische Sammlung, die den Wirtschaftszweig Brauwesen ebenso eindrucksvoll dokumentiert wie das mit dem Bier verbundene gesellige Leben in der Bayerischen Hauptstadt. Das angeschlossene Bierstüberl bietet im Rahmen der Führung einen Film zum Thema &quot;München und das Bier&quot;. Im angeschlossenen Bierstüberl ist anschließend ein gemülicher Aufenthalt möglich.&lt;/p&gt;
DTSTART:20260307T140000
DTEND:20260307T160000
LOCATION:
ORGANIZER:DGB-Bildungswerk Bayern e.V. Region München
END:VEVENT
END:VCALENDAR