BEGIN:VCALENDAR
VERSION:2.0
PRODID:-//Stadtgeschichte München//DE
CALSCALE:GREGORIAN
BEGIN:VEVENT
UID:27091@stadtgeschichte-muenchen.de
SUMMARY:Rund um die Residenz
DESCRIPTION:&lt;p&gt;Es gibt viel zu entdecken, rund um eine der größten und schönsten Residenzen Europas. Wir umrunden die weitläufige Residenz Münchens und durchqueren einige ihrer Höfe. Auch das Innenstadtgrün kommt nicht zu kurz. Im Finanzgarten besuchen wir Konfuzius und beenden unseren Rundgang im Hofgarten im Tempel der Tellus Bavarica.&lt;br&gt;&lt;br&gt;Dabei befassen wir uns mit der Baugeschichte der Residenz, ihrer Höfe und Denkmäler und ihrer heutigen Einbindung in die Innenstadt. In den umliegenden Gärten haben wir Gelegenheit durchzuatmen und auf den zahlreichen Bänken des Hofgartens auszuruhen.&lt;/p&gt;
DTSTART:20260326T100000
DTEND:20260326T120000
LOCATION:Max-Joseph-Platz, am Max-Joseph-Denkmal
ORGANIZER:DGB-Bildungswerk Bayern e.V. Region München
END:VEVENT
END:VCALENDAR