BEGIN:VCALENDAR
VERSION:2.0
PRODID:-//Stadtgeschichte München//DE
CALSCALE:GREGORIAN
BEGIN:VEVENT
UID:2711@stadtgeschichte-muenchen.de
SUMMARY:Das Ende der Bavaria Sancta
DESCRIPTION:
DTSTART:20120426T160000
DTEND:20120426T163000
LOCATION:
ORGANIZER:BR alpha
END:VEVENT
END:VCALENDAR