BEGIN:VCALENDAR
VERSION:2.0
PRODID:-//Stadtgeschichte München//DE
CALSCALE:GREGORIAN
BEGIN:VEVENT
UID:27118@stadtgeschichte-muenchen.de
SUMMARY:Erinnerung ist…
DESCRIPTION:&lt;p&gt;Ein Hut, eine Marionette, ein Tablettenröhrchen, ein Bierkrug. Welche Erinnerungen haften diesen Dingen an, welche Geschichten können sie erzählen? Was wollen wir mit und von ihnen erfahren? Für ein Jahr werden ausgewählte Objekte unsere Ausstellung &lt;i&gt;München und der Nationalsozialismus&lt;/i&gt; ergänzen und durch neue Geschichten weitererzählen. Große und kleine, alltägliche und ungewöhnliche Dinge schaffen sinnliche Zugänge und ermöglichen einen anderen Blick auf die Vergangenheit. Konkrete Gegenstände und individuelle Perspektiven machen übergeordnete Themen greifbar.&amp;nbsp;&amp;nbsp;&lt;/p&gt;&lt;p&gt;In diesem Kuratorinnen-Rundgang mit Karolina Kühn zur Intervention &lt;i&gt;Erinnerung ist …&lt;/i&gt; laden wir die Besucher*innen zu einem gemeinsamen Nachdenken darüber ein, wie schwierige und schmerzhafte Erfahrungen dargestellt, vermittelt, rezipiert und gedeutet werden können.&lt;/p&gt;
DTSTART:20251209T173000
DTEND:20251209T183000
LOCATION:NS-Dokumentationszentrum München Max-Mannheimer-Platz 1, Foyer
ORGANIZER:NS-Dokumentationszentrum München
END:VEVENT
END:VCALENDAR