BEGIN:VCALENDAR
VERSION:2.0
PRODID:-//Stadtgeschichte München//DE
CALSCALE:GREGORIAN
BEGIN:VEVENT
UID:27137@stadtgeschichte-muenchen.de
SUMMARY:&quot;Die gute alte Zeit?&quot; Rundgang auf den Spuren von Prinzregent Luitpold
DESCRIPTION:&lt;p&gt;Am Tag nach der Entmündigung König Ludwigs II., am 10. Juni 1886, übernahm sein Onkel, Prinzregent Luitpold, die Regierungsverantwortung, später auch für Ludwigs Bruder Otto.&lt;br&gt;140 Jahre danach, bewegen wir uns auf diesem Rundgang auf den Spuren des Prinzregenten und besuchen die Orte, die durch den, beim Volk sehr beliebten Monarchen geprägt wurden.&lt;br&gt;Am Ende der Tour fahren wir mit dem Bus 100 vom Odeonsplatz bis zum Friedensengel. Von dort aus lassen wir unseren Blick über die Prinzregentenstraße schweifen und stellen uns die Frage, ob es wirklich eine &quot;gute alte Zeit&quot; für alle war.&lt;/p&gt;
DTSTART:20260610T100000
DTEND:20260610T123000
LOCATION:Karlsplatz (Stachus) unter dem Karlstor
ORGANIZER:DGB-Bildungswerk Bayern e.V. Region München
END:VEVENT
END:VCALENDAR