BEGIN:VCALENDAR
VERSION:2.0
PRODID:-//Stadtgeschichte München//DE
CALSCALE:GREGORIAN
BEGIN:VEVENT
UID:27138@stadtgeschichte-muenchen.de
SUMMARY:Rundwanderung über Spatenbräufilz, Mooshamer und Thanninger Weiher
DESCRIPTION:&lt;p&gt;Einst sollte das Spatenbräufilz die Kessel der Brauerei Spaten beheizen. Als der LBV das Gebiet 1995 übernahm, war das Moor entwässert und zerstört. Inzwischen beherbergt das wiedervernäßte Filz typische Moorpflanzen wie Sonnentau und Wollgras und zahlreiche seltene Insekten. Mit Einkehr im Gasthof Hansch in Feldkirchen (Egling). Festes Schuhwerk (feuchte Wege möglich), Insektenschutz. 10 km, gemütliches Gehtempo. Fällt bei Sturm oder Starkregen aus.&lt;/p&gt;
DTSTART:20260610T090000
DTEND:20260610T170000
LOCATION:S-Bahn Station Donnersbergerbrücke, Gleis 2
ORGANIZER:DGB-Bildungswerk Bayern e.V. Region München
END:VEVENT
END:VCALENDAR