BEGIN:VCALENDAR
VERSION:2.0
PRODID:-//Stadtgeschichte München//DE
CALSCALE:GREGORIAN
BEGIN:VEVENT
UID:27155@stadtgeschichte-muenchen.de
SUMMARY:Das Arbeitserziehungslager Moosach
DESCRIPTION:
DTSTART:20260317T183000
DTEND:20260317T193000
LOCATION:Vortragssaal des Bayerischen Hauptstaatsarchivs, Schönfeldstraße 5
ORGANIZER:Historischer Verein von Oberbayern
END:VEVENT
END:VCALENDAR