BEGIN:VCALENDAR
VERSION:2.0
PRODID:-//Stadtgeschichte München//DE
CALSCALE:GREGORIAN
BEGIN:VEVENT
UID:27339@stadtgeschichte-muenchen.de
SUMMARY:FRIDAY LATE im Museum Villa Stuck
DESCRIPTION:&lt;p&gt;Abendöffnung bis 22.00 Uhr&lt;/p&gt;&lt;p&gt;Angaben zum Inhalt der Ausstellung erfahren Sie auf der Homepage des Museums Villa Stuck (www.villastuck.de/kalender).&lt;/p&gt;&lt;p&gt;Der Eintritt für alle Besucherinnen und Besucher ist frei.&lt;/p&gt;&lt;p&gt;In Kooperation mit dem Museum Villa Stuck&lt;/p&gt;
DTSTART:20260102T190000
DTEND:20260102T200000
LOCATION:Museum Villa Stuck Prinzregentenstr. 60
ORGANIZER:MVHS
END:VEVENT
END:VCALENDAR