BEGIN:VCALENDAR
VERSION:2.0
PRODID:-//Stadtgeschichte München//DE
CALSCALE:GREGORIAN
BEGIN:VEVENT
UID:27341@stadtgeschichte-muenchen.de
SUMMARY:Was ist &quot;gute&quot; Kunst – Positionen von Dürer bis Rubens
DESCRIPTION:&lt;p&gt;Jede Epoche formuliert neue Themen und Sichtweisen auf Kunst. Während das Mittelalter alle natürlichen Dinge als von der göttlichen Kunst hervorgebracht versteht, definiert die Renaissance künstlerisches Arbeiten als Form der Erkenntnis mit der Natur als Lehrmeisterin. In der Aufklärung gehört schließlich die Dreiheit von Schönheit, Vergnügen, Erkenntnis&amp;nbsp;zur Kunst und ihrer Wahrnehmung. Die Bildwissenschaftlerin Dr. Angela Maria Opel bietet Einblicke in verschiedene Kunstepochen und stellt ausgewählte Werke vor.&lt;/p&gt;
DTSTART:20251214T140000
DTEND:20251214T153000
LOCATION:Alte Pinakothek Barer Str. 27
ORGANIZER:MVHS
END:VEVENT
END:VCALENDAR