BEGIN:VCALENDAR
VERSION:2.0
PRODID:-//Stadtgeschichte München//DE
CALSCALE:GREGORIAN
BEGIN:VEVENT
UID:27343@stadtgeschichte-muenchen.de
SUMMARY:Beckmann, Picasso, Dalí, Beuys, Metzel
DESCRIPTION:&lt;p&gt;Moderne Kunst in der Pinakothek der Moderne bedeutet: Werke aller Gattungen aus 120 Jahren in unkonventionellen Gegenüberstellungen. Der damit verbundene Anspruch ist, lebendige Perspektiven auf zentrale Fragestellungen unserer Gegenwart zu entwickeln. Jedoch, welche Fragen werden gestellt und welche Antworten gibt die Ausstellung? Die Führung zeigt das Profil der Präsentation an ausgewählten Werken.&lt;/p&gt;
DTSTART:20260111T110000
DTEND:20260111T123000
LOCATION:Pinakothek der Moderne Barer Str. 40
ORGANIZER:MVHS
END:VEVENT
END:VCALENDAR