BEGIN:VCALENDAR
VERSION:2.0
PRODID:-//Stadtgeschichte München//DE
CALSCALE:GREGORIAN
BEGIN:VEVENT
UID:27344@stadtgeschichte-muenchen.de
SUMMARY:3000 Jahre Altägypten - ein chronologischer Rundgang
DESCRIPTION:&lt;p&gt;Um 3000 v. Chr. bildet sich in Ägypten das erste Mal ein Staat unter einem Herrscher – eine Erfolgsgeschichte beginnt, die erst um 30 v. Chr. endet, als Ägypten Teil des römischen Weltreiches wird. Die Führung beleuchtet die spannende, wechselvolle Geschichte Ägyptens und stellt wegweisende Objekte der wichtigsten Epochen vor, widmet sich Herrscherpersönlichkeiten, aber auch dem Leben der einfachen Menschen.&lt;/p&gt;
DTSTART:20260111T140000
DTEND:20260111T153000
LOCATION:Staatliches Museum Ägyptischer Kunst Gabelsbergerstr. 35
ORGANIZER:MVHS
END:VEVENT
END:VCALENDAR