BEGIN:VCALENDAR
VERSION:2.0
PRODID:-//Stadtgeschichte München//DE
CALSCALE:GREGORIAN
BEGIN:VEVENT
UID:27346@stadtgeschichte-muenchen.de
SUMMARY:Geigen, Leiern, Bratschen – Musik auf Bildern der Alten Pinakothek
DESCRIPTION:&lt;p&gt;Musikinstrumente haben sich auf diversen Gemälden der Alten Pinakothek versteckt. Sie erzählen in jedem Bild eine andere Geschichte, spielen die Noten der Träume, erzählen von Liebesgeschichten oder unbeschwerten Musikerlebnissen. Nicht nur Menschen, auch Götter und Engel musizieren. Können wir uns die Klangfarben und Melodien der Bildmotive vorstellen? Während unseres Rundgangs enträtseln wir die Bedeutung der dargestellten Instrumente. Danach gestalten wir eigene Musikinstrumente.&lt;/p&gt;
DTSTART:20260111T140000
DTEND:20260111T160000
LOCATION:Alte Pinakothek Barer Str. 27
ORGANIZER:MVHS
END:VEVENT
END:VCALENDAR