BEGIN:VCALENDAR
VERSION:2.0
PRODID:-//Stadtgeschichte München//DE
CALSCALE:GREGORIAN
BEGIN:VEVENT
UID:27347@stadtgeschichte-muenchen.de
SUMMARY:Tiere, Feen, Fabelwesen – wer druckt die schönste Künstler-Postkarte?
DESCRIPTION:&lt;p&gt;Wir lernen die edle Künstlervilla kennen: das große Gebäude, die Götter- und Tierfiguren in Haus und Garten, die Gemälde des Hausherrn von wilden Tieren und lustigen Fabelwesen. Wir staunen über den Wächter des Paradieses, das riesige Bild eines Engels. Inspiriert von unseren Eindrücken lernen wir die Stempeltechnik und drucken unsere schönsten Postkarten auf buntes Papier.&lt;/p&gt;
DTSTART:20260111T140000
DTEND:20260111T160000
LOCATION:Museum Villa Stuck, Treffpunkt: Jugendzimmer im Untergeschoss Prinzregentenstr. 60
ORGANIZER:MVHS
END:VEVENT
END:VCALENDAR