BEGIN:VCALENDAR
VERSION:2.0
PRODID:-//Stadtgeschichte München//DE
CALSCALE:GREGORIAN
BEGIN:VEVENT
UID:2757@stadtgeschichte-muenchen.de
SUMMARY:Die Geheimnisse der Stadt â€“ Führung für Kinder
DESCRIPTION:&lt;p&gt;Gemeinsam entdecken wir die Geheimnisse der M&amp;uuml;nchner Altstadt. Wir erkunden die alte Burg M&amp;uuml;nchens, die einmal ein echter Kaiser bewohnte, und erfahren, was Affen anstellen, wenn sie frei in den Gem&amp;auml;uern herumlaufen d&amp;uuml;rfen. Zuvor begegnen wir auf dem Marienplatz einem schrecklichen Drachen und entdecken fantastische Fabelwesen am Neuen Rathaus.&lt;/p&gt;
DTSTART:20120708T130000
DTEND:20120708T140000
LOCATION:Frauenkirche (vor dem Haupteingang)
ORGANIZER:Mystisches München
END:VEVENT
END:VCALENDAR