BEGIN:VCALENDAR
VERSION:2.0
PRODID:-//Stadtgeschichte München//DE
CALSCALE:GREGORIAN
BEGIN:VEVENT
UID:27593@stadtgeschichte-muenchen.de
SUMMARY:Zum 250. Geburtstag von Königin Caroline von Bayern (Teil 1)
DESCRIPTION:&lt;p&gt;Teil 2 am 13. Juli in Schloss Nymphenburg&lt;/p&gt;
DTSTART:20260613T133000
DTEND:20260613T150000
LOCATION:Eingangshalle Residenzmuseum
ORGANIZER:Bayerische Schlösserverwaltung
END:VEVENT
END:VCALENDAR