BEGIN:VCALENDAR
VERSION:2.0
PRODID:-//Stadtgeschichte München//DE
CALSCALE:GREGORIAN
BEGIN:VEVENT
UID:27597@stadtgeschichte-muenchen.de
SUMMARY:Endlos viele Türen im riesigen Schloss – Was verbirgt sich wohl dahinter?
DESCRIPTION:
DTSTART:20260725T133000
DTEND:20260725T150000
LOCATION:Eingangshalle Residenzmuseum
ORGANIZER:Bayerische Schlösserverwaltung
END:VEVENT
END:VCALENDAR