BEGIN:VCALENDAR
VERSION:2.0
PRODID:-//Stadtgeschichte München//DE
CALSCALE:GREGORIAN
BEGIN:VEVENT
UID:276@stadtgeschichte-muenchen.de
SUMMARY:Fahrradtour: München im 20. Jahrhundert
DESCRIPTION:&lt;p&gt;Wir durchfahren ein ganzes Jahrhundert. Durch die Prinzregentenzeit mit Geb&amp;auml;uden, wie das neue Rathaus und das ehemalige Armeemuseum, geht es zu den historischen St&amp;auml;tten des 1. Weltkrieges, wie z.B. Odeonsplatz. Wir besuchen die Pl&amp;auml;tze der 20er-Jahre, wie z.B. Kardinal-Faulhaber-Stra&amp;szlig;e und Feldherrnhalle, wo NS-Trupps und die Landespolizei zusammengesto&amp;szlig;en sind. Stellvertretend f&amp;uuml;r die NS-Zeit kommen wir zu K&amp;ouml;nigsplatz und F&amp;uuml;hrerbau. Auch viele Orte der ehemaligen Tr&amp;uuml;mmerlandschaft der Kriegs- und Nachkriegszeit sowie der Wiederaufbauphase werden aufgesucht. Schlie&amp;szlig;lich werden auch Schaupl&amp;auml;tze der 60er und 70er Jahre erkl&amp;auml;rt.&lt;br /&gt; Diese Tour gibt einen guten &amp;Uuml;berblick &amp;uuml;ber die historischen St&amp;auml;tten des 20. Jahrhunderts der M&amp;uuml;nchner Innenstadt. Aufenthalte und Erkl&amp;auml;rungen an besonders geschichtstr&amp;auml;chtigen Stationen sind eingeplant.&lt;/p&gt; &lt;p&gt;Tourende: Olympiagel&amp;auml;nde U1, U3 - gpx Track und Karte unter http://www.bavaria-stadt.de/GPS.html&lt;br /&gt; &amp;nbsp;&lt;/p&gt;
DTSTART:20110716T110000
DTEND:20110716T140000
LOCATION:Vor dem Alten Rathaus, Südseite (Bronzestatue Julia) 
ORGANIZER:DGB-Bildungswerk Bayern e.V. Region München
END:VEVENT
END:VCALENDAR