BEGIN:VCALENDAR
VERSION:2.0
PRODID:-//Stadtgeschichte München//DE
CALSCALE:GREGORIAN
BEGIN:VEVENT
UID:27600@stadtgeschichte-muenchen.de
SUMMARY:Maria, Schutzpatronin der Wittelsbacher
DESCRIPTION:
DTSTART:20260815T133000
DTEND:20260815T150000
LOCATION:Eingangshalle Residenzmuseum
ORGANIZER:Bayerische Schlösserverwaltung
END:VEVENT
END:VCALENDAR