BEGIN:VCALENDAR
VERSION:2.0
PRODID:-//Stadtgeschichte München//DE
CALSCALE:GREGORIAN
BEGIN:VEVENT
UID:27608@stadtgeschichte-muenchen.de
SUMMARY:Sehen und Staunen – von der herzoglichen Burg zum königlichen Schloss
DESCRIPTION:
DTSTART:20261003T133000
DTEND:20261003T150000
LOCATION:Eingangshalle Residenzmuseum
ORGANIZER:Bayerische Schlösserverwaltung
END:VEVENT
END:VCALENDAR