BEGIN:VCALENDAR
VERSION:2.0
PRODID:-//Stadtgeschichte München//DE
CALSCALE:GREGORIAN
BEGIN:VEVENT
UID:27609@stadtgeschichte-muenchen.de
SUMMARY:Kleine Detektive in den königlichen Gemächern
DESCRIPTION:&lt;p&gt;Kinder von 5-10 Jahren geeignet (erwachsene Begleitperson erforderlich).&lt;/p&gt;
DTSTART:20261010T133000
DTEND:20261010T150000
LOCATION:Eingangshalle Residenzmuseum
ORGANIZER:Bayerische Schlösserverwaltung
END:VEVENT
END:VCALENDAR