BEGIN:VCALENDAR
VERSION:2.0
PRODID:-//Stadtgeschichte München//DE
CALSCALE:GREGORIAN
BEGIN:VEVENT
UID:2761@stadtgeschichte-muenchen.de
SUMMARY:Mörderisches München
DESCRIPTION:&lt;p&gt;M&amp;uuml;nchen ist t&amp;ouml;dlich! Strahlend blauer Himmel, herrliche wei&amp;szlig;e Sch&amp;auml;fchenwolken &amp;ndash; so lieben wir den bayrischen Himmel &amp;uuml;ber M&amp;uuml;nchen! Doch so manche gl&amp;auml;nzende Prunkmeile und beschaulich verwinkeltes G&amp;auml;sschen birgt ein b&amp;ouml;ses Geheimnis. In den dunklen Stunden der Stadt f&amp;auml;rbte sich das Pflaster des sch&amp;ouml;nen M&amp;uuml;nchens blutrot und hinter den leuchtenden Fassaden so manchen biederen Hauses schwang Gevatter Tod gnadenlos seine Sense, wo ein Mensch den anderen um die Ecke brachte &amp;hellip;&lt;/p&gt;
DTSTART:20120708T153000
DTEND:20120708T173000
LOCATION:Hauptbahnhof Nord - Starnberger Flügelbahnhof - Eingangshalle
ORGANIZER:Mystisches München
END:VEVENT
END:VCALENDAR