BEGIN:VCALENDAR
VERSION:2.0
PRODID:-//Stadtgeschichte München//DE
CALSCALE:GREGORIAN
BEGIN:VEVENT
UID:27614@stadtgeschichte-muenchen.de
SUMMARY:Geschichte und Geschichten aus den herrschaftlichen Appartements
DESCRIPTION:
DTSTART:20260125T133000
DTEND:20260125T150000
LOCATION:vor dem Hauptschloss (stadtseitig)
ORGANIZER:Bayerische Schlösserverwaltung
END:VEVENT
END:VCALENDAR