BEGIN:VCALENDAR
VERSION:2.0
PRODID:-//Stadtgeschichte München//DE
CALSCALE:GREGORIAN
BEGIN:VEVENT
UID:27615@stadtgeschichte-muenchen.de
SUMMARY:Höhen und Tiefen eines Herrscherlebens
DESCRIPTION:
DTSTART:20260222T133000
DTEND:20260222T150000
LOCATION:vor dem Hauptschloss (stadtseitig)
ORGANIZER:Bayerische Schlösserverwaltung
END:VEVENT
END:VCALENDAR