BEGIN:VCALENDAR
VERSION:2.0
PRODID:-//Stadtgeschichte München//DE
CALSCALE:GREGORIAN
BEGIN:VEVENT
UID:27621@stadtgeschichte-muenchen.de
SUMMARY:So machten sich Prinzen und Prinzessinnen schön
DESCRIPTION:&lt;p&gt;für Kinder von 5-9 Jahren geeignet (erwachsene Begleitperson erforderlich).&lt;/p&gt;
DTSTART:20260426T133000
DTEND:20260426T150000
LOCATION:vor dem Hauptschloss (stadtseitig)
ORGANIZER:Bayerische Schlösserverwaltung
END:VEVENT
END:VCALENDAR