BEGIN:VCALENDAR
VERSION:2.0
PRODID:-//Stadtgeschichte München//DE
CALSCALE:GREGORIAN
BEGIN:VEVENT
UID:27625@stadtgeschichte-muenchen.de
SUMMARY:Royale Radltour: Schloss Nymphenburg und seine Umgebung von außen entdecken
DESCRIPTION:
DTSTART:20260524T133000
DTEND:20260524T153000
LOCATION:vor dem Marstallmuseum
ORGANIZER:Bayerische Schlösserverwaltung
END:VEVENT
END:VCALENDAR