BEGIN:VCALENDAR
VERSION:2.0
PRODID:-//Stadtgeschichte München//DE
CALSCALE:GREGORIAN
BEGIN:VEVENT
UID:27626@stadtgeschichte-muenchen.de
SUMMARY:Auf in die Sommerfrische!
DESCRIPTION:
DTSTART:20260531T133000
DTEND:20260531T150000
LOCATION:vor dem Hauptschloss (stadtseitig)
ORGANIZER:Bayerische Schlösserverwaltung
END:VEVENT
END:VCALENDAR