BEGIN:VCALENDAR
VERSION:2.0
PRODID:-//Stadtgeschichte München//DE
CALSCALE:GREGORIAN
BEGIN:VEVENT
UID:27627@stadtgeschichte-muenchen.de
SUMMARY:Das Parkburgen-Abenteuer
DESCRIPTION:&lt;p&gt;für Kinder von 7-12 Jahren geeignet (erwachsene Begleitperson erforderlich)v&lt;/p&gt;
DTSTART:20260607T133000
DTEND:20260607T150000
LOCATION:vor dem Hauptschloss (stadtseitig)
ORGANIZER:Bayerische Schlösserverwaltung
END:VEVENT
END:VCALENDAR