BEGIN:VCALENDAR
VERSION:2.0
PRODID:-//Stadtgeschichte München//DE
CALSCALE:GREGORIAN
BEGIN:VEVENT
UID:27630@stadtgeschichte-muenchen.de
SUMMARY:Die Sommerresidenz der Wittelsbacher
DESCRIPTION:
DTSTART:20260628T133000
DTEND:20260628T150000
LOCATION:vor dem Hauptschloss (stadtseitig)
ORGANIZER:Bayerische Schlösserverwaltung
END:VEVENT
END:VCALENDAR