BEGIN:VCALENDAR
VERSION:2.0
PRODID:-//Stadtgeschichte München//DE
CALSCALE:GREGORIAN
BEGIN:VEVENT
UID:27631@stadtgeschichte-muenchen.de
SUMMARY:Manieren, Tischsitten und höfische Spiele
DESCRIPTION:&lt;p&gt;für Kinder von 8-12 Jahren geeignet (erwachsene Begleitperson erforderlich)&lt;/p&gt;
DTSTART:20260705T133000
DTEND:20260705T150000
LOCATION:Kasse Marstallmuseum
ORGANIZER:Bayerische Schlösserverwaltung
END:VEVENT
END:VCALENDAR