BEGIN:VCALENDAR
VERSION:2.0
PRODID:-//Stadtgeschichte München//DE
CALSCALE:GREGORIAN
BEGIN:VEVENT
UID:27634@stadtgeschichte-muenchen.de
SUMMARY:Sehen und Staunen – im königlichen Schloss
DESCRIPTION:
DTSTART:20260719T133000
DTEND:20260719T150000
LOCATION:vor dem Hauptschloss (stadtseitig)
ORGANIZER:Bayerische Schlösserverwaltung
END:VEVENT
END:VCALENDAR