BEGIN:VCALENDAR
VERSION:2.0
PRODID:-//Stadtgeschichte München//DE
CALSCALE:GREGORIAN
BEGIN:VEVENT
UID:27636@stadtgeschichte-muenchen.de
SUMMARY:Ziemlich cool und hochmodern
DESCRIPTION:
DTSTART:20260802T133000
DTEND:20260802T150000
LOCATION: vor dem Marstallmuseum
ORGANIZER:Bayerische Schlösserverwaltung
END:VEVENT
END:VCALENDAR