BEGIN:VCALENDAR
VERSION:2.0
PRODID:-//Stadtgeschichte München//DE
CALSCALE:GREGORIAN
BEGIN:VEVENT
UID:27645@stadtgeschichte-muenchen.de
SUMMARY:Zwischen Ewigkeit und Jetzt – das Leben von Bayerns Barock-Herrscher Kurfürst Max Emanuel
DESCRIPTION:
DTSTART:20261004T133000
DTEND:20261004T150000
LOCATION:vor dem Hauptschloss (stadtseitig)
ORGANIZER:Bayerische Schlösserverwaltung
END:VEVENT
END:VCALENDAR