BEGIN:VCALENDAR
VERSION:2.0
PRODID:-//Stadtgeschichte München//DE
CALSCALE:GREGORIAN
BEGIN:VEVENT
UID:27660@stadtgeschichte-muenchen.de
SUMMARY:Neujahrskonzert
DESCRIPTION:&lt;p&gt;Das Bayerische Jugendbarockorchester ist das este Jugendorchester Süddeutschlands, das isch der histsorischen Aufführungspraxis widmet und Instrumente in ihren originalen Formen des Barocks spielt.&amp;nbsp;&lt;/p&gt;&lt;p&gt;Zum Abschluss einer Winter-Probenwoche präsentiertren die jungen Musikerinnen und Musiker unter der Leitung von Ralf Jaensch Concerti und Suiten von Dall´Abaco, Durante, Bach und Vivaldi&lt;/p&gt;
DTSTART:20260104T150000
DTEND:20260104T163000
LOCATION:Bayerisches Nationalmuseum Prinzregentenstr. 3, Mars-Venus-Saal
ORGANIZER:Bayerisches Nationalmuseum
END:VEVENT
END:VCALENDAR