BEGIN:VCALENDAR
VERSION:2.0
PRODID:-//Stadtgeschichte München//DE
CALSCALE:GREGORIAN
BEGIN:VEVENT
UID:27664@stadtgeschichte-muenchen.de
SUMMARY:Wissensdurst und Aufklärung
DESCRIPTION:
DTSTART:20260111T110000
DTEND:20260111T120000
LOCATION:Bayerisches Nationalmuseum Prinzregentenstr. 3
ORGANIZER:Bayerisches Nationalmuseum
END:VEVENT
END:VCALENDAR