BEGIN:VCALENDAR
VERSION:2.0
PRODID:-//Stadtgeschichte München//DE
CALSCALE:GREGORIAN
BEGIN:VEVENT
UID:27667@stadtgeschichte-muenchen.de
SUMMARY:Alte Musikinstrumente sind wandelbar
DESCRIPTION:
DTSTART:20260125T110000
DTEND:20260125T120000
LOCATION:Bayerisches Nationalmuseum Prinzregentenstr. 3
ORGANIZER:Bayerisches Nationalmuseum
END:VEVENT
END:VCALENDAR