BEGIN:VCALENDAR
VERSION:2.0
PRODID:-//Stadtgeschichte München//DE
CALSCALE:GREGORIAN
BEGIN:VEVENT
UID:27668@stadtgeschichte-muenchen.de
SUMMARY:Der bayerische Löwe
DESCRIPTION:
DTSTART:20260129T180000
DTEND:20260129T190000
LOCATION:Bayerisches Nationalmuseum Prinzregentenstr. 3
ORGANIZER:Bayerisches Nationalmuseum
END:VEVENT
END:VCALENDAR