BEGIN:VCALENDAR
VERSION:2.0
PRODID:-//Stadtgeschichte München//DE
CALSCALE:GREGORIAN
BEGIN:VEVENT
UID:27670@stadtgeschichte-muenchen.de
SUMMARY:Perfekte Säulenarchitektur vom Schreiner
DESCRIPTION:
DTSTART:20260205T180000
DTEND:20260205T190000
LOCATION:Bayerisches Nationalmuseum Prinzregentenstr. 3
ORGANIZER:Bayerisches Nationalmuseum
END:VEVENT
END:VCALENDAR