BEGIN:VCALENDAR
VERSION:2.0
PRODID:-//Stadtgeschichte München//DE
CALSCALE:GREGORIAN
BEGIN:VEVENT
UID:27671@stadtgeschichte-muenchen.de
SUMMARY:Orlandos Welt
DESCRIPTION:
DTSTART:20260208T110000
DTEND:20260208T120000
LOCATION:Bayerisches Nationalmuseum Prinzregentenstr. 3
ORGANIZER:Bayerisches Nationalmuseum
END:VEVENT
END:VCALENDAR