BEGIN:VCALENDAR
VERSION:2.0
PRODID:-//Stadtgeschichte München//DE
CALSCALE:GREGORIAN
BEGIN:VEVENT
UID:27678@stadtgeschichte-muenchen.de
SUMMARY:Der erste bayerische König 
DESCRIPTION:
DTSTART:20260308T110000
DTEND:20260308T120000
LOCATION:Bayerisches Nationalmuseum Prinzregentenstr. 3
ORGANIZER:Bayerisches Nationalmuseum
END:VEVENT
END:VCALENDAR