BEGIN:VCALENDAR
VERSION:2.0
PRODID:-//Stadtgeschichte München//DE
CALSCALE:GREGORIAN
BEGIN:VEVENT
UID:27679@stadtgeschichte-muenchen.de
SUMMARY:Wissensdurst und Aufklärung
DESCRIPTION:
DTSTART:20260308T140000
DTEND:20260308T150000
LOCATION:Bayerisches Nationalmuseum Prinzregentenstr. 3
ORGANIZER:Bayerisches Nationalmuseum
END:VEVENT
END:VCALENDAR