BEGIN:VCALENDAR
VERSION:2.0
PRODID:-//Stadtgeschichte München//DE
CALSCALE:GREGORIAN
BEGIN:VEVENT
UID:27685@stadtgeschichte-muenchen.de
SUMMARY:Bischof, Ritter, Edelmann 
DESCRIPTION:
DTSTART:20260326T180000
DTEND:20260326T190000
LOCATION:Bayerisches Nationalmuseum Prinzregentenstr. 3
ORGANIZER:Bayerisches Nationalmuseum
END:VEVENT
END:VCALENDAR