BEGIN:VCALENDAR
VERSION:2.0
PRODID:-//Stadtgeschichte München//DE
CALSCALE:GREGORIAN
BEGIN:VEVENT
UID:27686@stadtgeschichte-muenchen.de
SUMMARY:Antike Götter im Liebesrausch
DESCRIPTION:
DTSTART:20260329T110000
DTEND:19700101T010000
LOCATION:Bayerisches Nationalmuseum Prinzregentenstr. 3
ORGANIZER:Bayerisches Nationalmuseum
END:VEVENT
END:VCALENDAR