BEGIN:VCALENDAR
VERSION:2.0
PRODID:-//Stadtgeschichte München//DE
CALSCALE:GREGORIAN
BEGIN:VEVENT
UID:27689@stadtgeschichte-muenchen.de
SUMMARY:Trick, Track, Schach &amp; Co. Aus ist das Spiel!
DESCRIPTION:&lt;p&gt;Weißt Du wie man Trick-Track spielt oder das Gänsespiel? Im Mittelalter waren sie ebenso wie Schach und Dame an den Fürstenhöfen ein beliebter Zeitvertrieb. Kunstvolle Spielbretter und -tische aus edlen Materialien wie Elfenbein, Schildpatt, Gold und Silber erzählen uns aus einer Zeit, in der nicht nur die Kinder spielten.&lt;/p&gt;
DTSTART:20260125T150000
DTEND:20260125T160000
LOCATION:Bayerisches Nationalmuseum Prinzregentenstr. 3
ORGANIZER:Bayerisches Nationalmuseum
END:VEVENT
END:VCALENDAR